BEGIN:VCALENDAR
VERSION:2.0
PRODID:-//North Carolina Pickleball Tournaments - ECPv6.15.20//NONSGML v1.0//EN
CALSCALE:GREGORIAN
METHOD:PUBLISH
X-WR-CALNAME:North Carolina Pickleball Tournaments
X-ORIGINAL-URL:https://northcarolinapickleballtournaments.com
X-WR-CALDESC:Events for North Carolina Pickleball Tournaments
REFRESH-INTERVAL;VALUE=DURATION:PT1H
X-Robots-Tag:noindex
X-PUBLISHED-TTL:PT1H
BEGIN:VTIMEZONE
TZID:America/New_York
BEGIN:DAYLIGHT
TZOFFSETFROM:-0500
TZOFFSETTO:-0400
TZNAME:EDT
DTSTART:20240310T070000
END:DAYLIGHT
BEGIN:STANDARD
TZOFFSETFROM:-0400
TZOFFSETTO:-0500
TZNAME:EST
DTSTART:20241103T060000
END:STANDARD
BEGIN:DAYLIGHT
TZOFFSETFROM:-0500
TZOFFSETTO:-0400
TZNAME:EDT
DTSTART:20250309T070000
END:DAYLIGHT
BEGIN:STANDARD
TZOFFSETFROM:-0400
TZOFFSETTO:-0500
TZNAME:EST
DTSTART:20251102T060000
END:STANDARD
BEGIN:DAYLIGHT
TZOFFSETFROM:-0500
TZOFFSETTO:-0400
TZNAME:EDT
DTSTART:20260308T070000
END:DAYLIGHT
BEGIN:STANDARD
TZOFFSETFROM:-0400
TZOFFSETTO:-0500
TZNAME:EST
DTSTART:20261101T060000
END:STANDARD
END:VTIMEZONE
BEGIN:VEVENT
DTSTART;VALUE=DATE:20250822
DTEND;VALUE=DATE:20250823
DTSTAMP:20260422T065114
CREATED:20250719T175213Z
LAST-MODIFIED:20250719T190952Z
UID:10000183-1755820800-1755907199@northcarolinapickleballtournaments.com
SUMMARY:Creekside Women's Doubles Tournament
DESCRIPTION:♦️”Creekside Women’s Doubles Tournament”\nPickleball Tournament in Black Mountain\, NC\nOrganized by: Creekside Sports Club
URL:https://northcarolinapickleballtournaments.com/event/creekside-womens-doubles-tournament/
LOCATION:Creekside Sports Club\, 195 Dogwood Lane\, Black Mountain\, NC\, 28711\, United States
CATEGORIES:North Carolina
ATTACH;FMTTYPE=image/jpeg:https://northcarolinapickleballtournaments.com/wp-content/uploads/2025/07/20250822c.jpg
END:VEVENT
BEGIN:VEVENT
DTSTART;VALUE=DATE:20250704
DTEND;VALUE=DATE:20250705
DTSTAMP:20260422T065114
CREATED:20250617T141037Z
LAST-MODIFIED:20250617T141037Z
UID:10000148-1751587200-1751673599@northcarolinapickleballtournaments.com
SUMMARY:Creekside Mixed Doubles
DESCRIPTION:♦️”Creekside Mixed Doubles”\nPickleball Tournament in Black Mountain\, NC\nOrganized by: Creekside Sports Club
URL:https://northcarolinapickleballtournaments.com/event/creekside-mixed-doubles/
LOCATION:Creekside Sports Club\, 195 Dogwood Lane\, Black Mountain\, NC\, 28711\, United States
CATEGORIES:North Carolina
ATTACH;FMTTYPE=image/jpeg:https://northcarolinapickleballtournaments.com/wp-content/uploads/2025/06/20250704a.jpg
END:VEVENT
END:VCALENDAR